BEGIN:VCALENDAR
VERSION:2.0
PRODID:-//Club de tiro 555 - ECPv6.10.1.1//NONSGML v1.0//EN
CALSCALE:GREGORIAN
METHOD:PUBLISH
X-ORIGINAL-URL:https://clubdetiro555.es
X-WR-CALDESC:Eventos para Club de tiro 555
REFRESH-INTERVAL;VALUE=DURATION:PT1H
X-Robots-Tag:noindex
X-PUBLISHED-TTL:PT1H
BEGIN:VTIMEZONE
TZID:Europe/Paris
BEGIN:DAYLIGHT
TZOFFSETFROM:+0100
TZOFFSETTO:+0200
TZNAME:CEST
DTSTART:20200329T010000
END:DAYLIGHT
BEGIN:STANDARD
TZOFFSETFROM:+0200
TZOFFSETTO:+0100
TZNAME:CET
DTSTART:20201025T010000
END:STANDARD
BEGIN:DAYLIGHT
TZOFFSETFROM:+0100
TZOFFSETTO:+0200
TZNAME:CEST
DTSTART:20210328T010000
END:DAYLIGHT
BEGIN:STANDARD
TZOFFSETFROM:+0200
TZOFFSETTO:+0100
TZNAME:CET
DTSTART:20211031T010000
END:STANDARD
END:VTIMEZONE
BEGIN:VEVENT
DTSTART;TZID=Europe/Paris:20201205T110000
DTEND;TZID=Europe/Paris:20201205T180000
DTSTAMP:20260420T161411
CREATED:20201023T165900Z
LAST-MODIFIED:20201023T165900Z
UID:2355-1607166000-1607191200@clubdetiro555.es
SUMMARY:Fusil 100m - Regional
DESCRIPTION:
URL:https://clubdetiro555.es/calendario/fusil-100m-regional
LOCATION:Campo de Tiro Cantoblanco\, Federación Madrileña de Tiro Olímpico\, Madrid\, Madrid\, 28015\, España
CATEGORIES:Carabina prec.
ORGANIZER;CN="F.M.T.O.":MAILTO:informacion@fmto.net
END:VEVENT
BEGIN:VEVENT
DTSTART;TZID=Europe/Paris:20201206T110000
DTEND;TZID=Europe/Paris:20201206T180000
DTSTAMP:20260420T161411
CREATED:20201023T170845Z
LAST-MODIFIED:20201023T170845Z
UID:2367-1607252400-1607277600@clubdetiro555.es
SUMMARY:Pistola Tiro Rápido 25m
DESCRIPTION:
URL:https://clubdetiro555.es/calendario/pistola-tiro-rapido-25m
LOCATION:Campo de Tiro Cantoblanco\, Federación Madrileña de Tiro Olímpico\, Madrid\, Madrid\, 28015\, España
CATEGORIES:Pistola prec.
ORGANIZER;CN="F.M.T.O.":MAILTO:informacion@fmto.net
END:VEVENT
BEGIN:VEVENT
DTSTART;TZID=Europe/Paris:20201206T110000
DTEND;TZID=Europe/Paris:20201206T180000
DTSTAMP:20260420T161411
CREATED:20201023T171508Z
LAST-MODIFIED:20201023T171508Z
UID:2370-1607252400-1607277600@clubdetiro555.es
SUMMARY:Pistola Estándar Aire - Regional
DESCRIPTION:
URL:https://clubdetiro555.es/calendario/pistola-estandar-aire-regional
LOCATION:Campo de Tiro Cantoblanco\, Federación Madrileña de Tiro Olímpico\, Madrid\, Madrid\, 28015\, España
CATEGORIES:Aire 10m
ORGANIZER;CN="F.M.T.O.":MAILTO:informacion@fmto.net
END:VEVENT
BEGIN:VEVENT
DTSTART;TZID=Europe/Paris:20201206T110000
DTEND;TZID=Europe/Paris:20201206T180000
DTSTAMP:20260420T161411
CREATED:20201023T171650Z
LAST-MODIFIED:20201023T171650Z
UID:2372-1607252400-1607277600@clubdetiro555.es
SUMMARY:Fusil 50m
DESCRIPTION:
URL:https://clubdetiro555.es/calendario/fusil-50m-2
LOCATION:Campo de Tiro Cantoblanco\, Federación Madrileña de Tiro Olímpico\, Madrid\, Madrid\, 28015\, España
CATEGORIES:Carabina prec.
ORGANIZER;CN="F.M.T.O.":MAILTO:informacion@fmto.net
END:VEVENT
BEGIN:VEVENT
DTSTART;TZID=Europe/Paris:20201206T110000
DTEND;TZID=Europe/Paris:20201206T180000
DTSTAMP:20260420T161411
CREATED:20201023T171805Z
LAST-MODIFIED:20201023T171805Z
UID:2374-1607252400-1607277600@clubdetiro555.es
SUMMARY:Mini F-Class 50m - Regional
DESCRIPTION:
URL:https://clubdetiro555.es/calendario/mini-f-class-50m-regional
LOCATION:Campo de Tiro Cantoblanco\, Federación Madrileña de Tiro Olímpico\, Madrid\, Madrid\, 28015\, España
CATEGORIES:BR-FCLAS
ORGANIZER;CN="F.M.T.O.":MAILTO:informacion@fmto.net
END:VEVENT
BEGIN:VEVENT
DTSTART;TZID=Europe/Paris:20201212T110000
DTEND;TZID=Europe/Paris:20201212T180000
DTSTAMP:20260420T161411
CREATED:20201023T172418Z
LAST-MODIFIED:20201023T172418Z
UID:2376-1607770800-1607796000@clubdetiro555.es
SUMMARY:Arma Corta .22 - Complementaria
DESCRIPTION:
URL:https://clubdetiro555.es/calendario/arma-corta-22-complementaria-3
LOCATION:Campo de Tiro Cantoblanco\, Federación Madrileña de Tiro Olímpico\, Madrid\, Madrid\, 28015\, España
CATEGORIES:Complementaria,Pistola prec.
ORGANIZER;CN="F.M.T.O.":MAILTO:informacion@fmto.net
END:VEVENT
BEGIN:VEVENT
DTSTART;TZID=Europe/Paris:20201213T110000
DTEND;TZID=Europe/Paris:20201213T180000
DTSTAMP:20260420T161411
CREATED:20201023T170026Z
LAST-MODIFIED:20201023T170026Z
UID:2357-1607857200-1607882400@clubdetiro555.es
SUMMARY:Pistola 9mm y Grueso Calibre
DESCRIPTION:
URL:https://clubdetiro555.es/calendario/pistola-9mm-y-grueso-calibre
LOCATION:Campo de Tiro Cantoblanco\, Federación Madrileña de Tiro Olímpico\, Madrid\, Madrid\, 28015\, España
CATEGORIES:Pistola prec.
ORGANIZER;CN="F.M.T.O.":MAILTO:informacion@fmto.net
END:VEVENT
BEGIN:VEVENT
DTSTART;TZID=Europe/Paris:20201213T110000
DTEND;TZID=Europe/Paris:20201213T180000
DTSTAMP:20260420T161411
CREATED:20201023T170132Z
LAST-MODIFIED:20201023T170132Z
UID:2359-1607857200-1607882400@clubdetiro555.es
SUMMARY:Pistola Velocidad Aire
DESCRIPTION:
URL:https://clubdetiro555.es/calendario/pistola-velocidad-aire-2
LOCATION:Campo de Tiro Cantoblanco\, Federación Madrileña de Tiro Olímpico\, Madrid\, Madrid\, 28015\, España
CATEGORIES:Aire 10m
ORGANIZER;CN="F.M.T.O.":MAILTO:informacion@fmto.net
END:VEVENT
BEGIN:VEVENT
DTSTART;TZID=Europe/Paris:20201220T110000
DTEND;TZID=Europe/Paris:20201220T180000
DTSTAMP:20260420T161411
CREATED:20201023T172503Z
LAST-MODIFIED:20201023T172503Z
UID:2378-1608462000-1608487200@clubdetiro555.es
SUMMARY:Tirada de Navidad
DESCRIPTION:
URL:https://clubdetiro555.es/calendario/tirada-de-navidad
LOCATION:Campo de Tiro Cantoblanco\, Federación Madrileña de Tiro Olímpico\, Madrid\, Madrid\, 28015\, España
CATEGORIES:Otros
ORGANIZER;CN="F.M.T.O.":MAILTO:informacion@fmto.net
END:VEVENT
BEGIN:VEVENT
DTSTART;TZID=Europe/Paris:20210109T090000
DTEND;TZID=Europe/Paris:20210109T180000
DTSTAMP:20260420T161411
CREATED:20210107T100536Z
LAST-MODIFIED:20210107T100536Z
UID:2507-1610182800-1610215200@clubdetiro555.es
SUMMARY:Curso Nuevos Federados - Inicio
DESCRIPTION:
URL:https://clubdetiro555.es/calendario/curso-nuevos-federados-inicio
LOCATION:Campo de Tiro Cantoblanco\, Federación Madrileña de Tiro Olímpico\, Madrid\, Madrid\, 28015\, España
CATEGORIES:Curso
ORGANIZER;CN="F.M.T.O.":MAILTO:informacion@fmto.net
END:VEVENT
BEGIN:VEVENT
DTSTART;TZID=Europe/Paris:20210110T110000
DTEND;TZID=Europe/Paris:20210110T180000
DTSTAMP:20260420T161411
CREATED:20210107T100143Z
LAST-MODIFIED:20210107T100143Z
UID:2504-1610276400-1610301600@clubdetiro555.es
SUMMARY:Pistola Standard
DESCRIPTION:
URL:https://clubdetiro555.es/calendario/pistola-standard
LOCATION:Campo de Tiro Cantoblanco\, Federación Madrileña de Tiro Olímpico\, Madrid\, Madrid\, 28015\, España
CATEGORIES:Pistola prec.
ORGANIZER;CN="F.M.T.O.":MAILTO:informacion@fmto.net
END:VEVENT
BEGIN:VEVENT
DTSTART;TZID=Europe/Paris:20210116T110000
DTEND;TZID=Europe/Paris:20210116T180000
DTSTAMP:20260420T161411
CREATED:20210107T101019Z
LAST-MODIFIED:20210107T101019Z
UID:2513-1610794800-1610820000@clubdetiro555.es
SUMMARY:RRTT Arma Corta
DESCRIPTION:
URL:https://clubdetiro555.es/calendario/rrtt-arma-corta
LOCATION:Campo de Tiro Cantoblanco\, Federación Madrileña de Tiro Olímpico\, Madrid\, Madrid\, 28015\, España
CATEGORIES:IPSC
ORGANIZER;CN="F.M.T.O.":MAILTO:informacion@fmto.net
END:VEVENT
BEGIN:VEVENT
DTSTART;TZID=Europe/Paris:20210116T170000
DTEND;TZID=Europe/Paris:20210116T180000
DTSTAMP:20260420T161411
CREATED:20210107T101159Z
LAST-MODIFIED:20210107T101159Z
UID:2515-1610816400-1610820000@clubdetiro555.es
SUMMARY:Arma corta .22 - Complementaria
DESCRIPTION:
URL:https://clubdetiro555.es/calendario/arma-corta-22-complementaria-4
LOCATION:Campo de Tiro Cantoblanco\, Federación Madrileña de Tiro Olímpico\, Madrid\, Madrid\, 28015\, España
CATEGORIES:Complementaria,Pistola prec.
ORGANIZER;CN="F.M.T.O.":MAILTO:informacion@fmto.net
END:VEVENT
BEGIN:VEVENT
DTSTART;TZID=Europe/Paris:20210117T110000
DTEND;TZID=Europe/Paris:20210117T180000
DTSTAMP:20260420T161411
CREATED:20210107T100656Z
LAST-MODIFIED:20210107T100656Z
UID:2509-1610881200-1610906400@clubdetiro555.es
SUMMARY:Pistola Aire 10m
DESCRIPTION:
URL:https://clubdetiro555.es/calendario/pistola-aire-10m
LOCATION:Campo de Tiro Cantoblanco\, Federación Madrileña de Tiro Olímpico\, Madrid\, Madrid\, 28015\, España
CATEGORIES:Aire 10m
ORGANIZER;CN="F.M.T.O.":MAILTO:informacion@fmto.net
END:VEVENT
BEGIN:VEVENT
DTSTART;TZID=Europe/Paris:20210117T110000
DTEND;TZID=Europe/Paris:20210117T180000
DTSTAMP:20260420T161411
CREATED:20210107T100832Z
LAST-MODIFIED:20210107T100832Z
UID:2511-1610881200-1610906400@clubdetiro555.es
SUMMARY:Avancarga 50m
DESCRIPTION:
URL:https://clubdetiro555.es/calendario/avancarga-50m-2
LOCATION:Campo de Tiro Cantoblanco\, Federación Madrileña de Tiro Olímpico\, Madrid\, Madrid\, 28015\, España
CATEGORIES:Avancarga
ORGANIZER;CN="F.M.T.O.":MAILTO:informacion@fmto.net
END:VEVENT
BEGIN:VEVENT
DTSTART;TZID=Europe/Paris:20210124T110000
DTEND;TZID=Europe/Paris:20210124T180000
DTSTAMP:20260420T161411
CREATED:20210107T101307Z
LAST-MODIFIED:20210107T101307Z
UID:2517-1611486000-1611511200@clubdetiro555.es
SUMMARY:Fuego Central - Trofeo San Sebastian
DESCRIPTION:
URL:https://clubdetiro555.es/calendario/fuego-central-trofeo-san-sebastian
LOCATION:Campo de Tiro Cantoblanco\, Federación Madrileña de Tiro Olímpico\, Madrid\, Madrid\, 28015\, España
CATEGORIES:Pistola prec.
ORGANIZER;CN="F.M.T.O.":MAILTO:informacion@fmto.net
END:VEVENT
BEGIN:VEVENT
DTSTART;TZID=Europe/Paris:20210130T170000
DTEND;TZID=Europe/Paris:20210130T200000
DTSTAMP:20260420T161411
CREATED:20210107T102159Z
LAST-MODIFIED:20210107T102159Z
UID:2523-1612026000-1612036800@clubdetiro555.es
SUMMARY:Arma Corta Grueso Calibre - Complementaria
DESCRIPTION:
URL:https://clubdetiro555.es/calendario/arma-corta-grueso-calibre-complementaria-5
LOCATION:Campo de Tiro Cantoblanco\, Federación Madrileña de Tiro Olímpico\, Madrid\, Madrid\, 28015\, España
CATEGORIES:Complementaria,Pistola prec.
ORGANIZER;CN="F.M.T.O.":MAILTO:informacion@fmto.net
END:VEVENT
BEGIN:VEVENT
DTSTART;TZID=Europe/Paris:20210131T110000
DTEND;TZID=Europe/Paris:20210131T180000
DTSTAMP:20260420T161411
CREATED:20210107T101928Z
LAST-MODIFIED:20210107T101928Z
UID:2519-1612090800-1612116000@clubdetiro555.es
SUMMARY:Carabina tendido
DESCRIPTION:
URL:https://clubdetiro555.es/calendario/carabina-tendido-2
LOCATION:Campo de Tiro Cantoblanco\, Federación Madrileña de Tiro Olímpico\, Madrid\, Madrid\, 28015\, España
CATEGORIES:Carabina prec.
ORGANIZER;CN="F.M.T.O.":MAILTO:informacion@fmto.net
END:VEVENT
BEGIN:VEVENT
DTSTART;TZID=Europe/Paris:20210131T110000
DTEND;TZID=Europe/Paris:20210131T180000
DTSTAMP:20260420T161411
CREATED:20210107T102012Z
LAST-MODIFIED:20210107T102012Z
UID:2521-1612090800-1612116000@clubdetiro555.es
SUMMARY:Avancarga 25m
DESCRIPTION:
URL:https://clubdetiro555.es/calendario/avancarga-25m-2
LOCATION:Campo de Tiro Cantoblanco\, Federación Madrileña de Tiro Olímpico\, Madrid\, Madrid\, 28015\, España
CATEGORIES:Avancarga
ORGANIZER;CN="F.M.T.O.":MAILTO:informacion@fmto.net
END:VEVENT
BEGIN:VEVENT
DTSTART;TZID=Europe/Paris:20210207T110000
DTEND;TZID=Europe/Paris:20210207T180000
DTSTAMP:20260420T161411
CREATED:20210208T183325Z
LAST-MODIFIED:20210208T183325Z
UID:2547-1612695600-1612720800@clubdetiro555.es
SUMMARY:Pistola 9 mm. y Gran Calibre
DESCRIPTION:
URL:https://clubdetiro555.es/calendario/pistola-9-mm-y-gran-calibre
LOCATION:Campo de Tiro Cantoblanco\, Federación Madrileña de Tiro Olímpico\, Madrid\, Madrid\, 28015\, España
CATEGORIES:Pistola prec.
ORGANIZER;CN="F.M.T.O.":MAILTO:informacion@fmto.net
END:VEVENT
BEGIN:VEVENT
DTSTART;VALUE=DATE:20210213
DTEND;VALUE=DATE:20210215
DTSTAMP:20260420T161411
CREATED:20210208T183945Z
LAST-MODIFIED:20210208T183945Z
UID:2555-1613178000-1613264399@clubdetiro555.es
SUMMARY:Curso nuevos federados - Inicio
DESCRIPTION:
URL:https://clubdetiro555.es/calendario/curso-nuevos-federados-inicio-2
LOCATION:Campo de Tiro Cantoblanco\, Federación Madrileña de Tiro Olímpico\, Madrid\, Madrid\, 28015\, España
CATEGORIES:Curso
ORGANIZER;CN="F.M.T.O.":MAILTO:informacion@fmto.net
END:VEVENT
BEGIN:VEVENT
DTSTART;TZID=Europe/Paris:20210214T090000
DTEND;TZID=Europe/Paris:20210214T180000
DTSTAMP:20260420T161411
CREATED:20210208T183613Z
LAST-MODIFIED:20210208T183613Z
UID:2551-1613293200-1613325600@clubdetiro555.es
SUMMARY:Carabina Aire 10 m
DESCRIPTION:
URL:https://clubdetiro555.es/calendario/carabina-aire-10-m
LOCATION:Campo de Tiro Cantoblanco\, Federación Madrileña de Tiro Olímpico\, Madrid\, Madrid\, 28015\, España
CATEGORIES:Aire 10m
ORGANIZER;CN="F.M.T.O.":MAILTO:informacion@fmto.net
END:VEVENT
BEGIN:VEVENT
DTSTART;TZID=Europe/Paris:20210214T110000
DTEND;TZID=Europe/Paris:20210214T180000
DTSTAMP:20260420T161411
CREATED:20210208T183445Z
LAST-MODIFIED:20210208T183445Z
UID:2549-1613300400-1613325600@clubdetiro555.es
SUMMARY:Pistola Standard
DESCRIPTION:
URL:https://clubdetiro555.es/calendario/pistola-standard-2
LOCATION:Campo de Tiro Cantoblanco\, Federación Madrileña de Tiro Olímpico\, Madrid\, Madrid\, 28015\, España
CATEGORIES:Pistola prec.
ORGANIZER;CN="F.M.T.O.":MAILTO:informacion@fmto.net
END:VEVENT
BEGIN:VEVENT
DTSTART;TZID=Europe/Paris:20210214T110000
DTEND;TZID=Europe/Paris:20210214T180000
DTSTAMP:20260420T161411
CREATED:20210208T183736Z
LAST-MODIFIED:20210208T183736Z
UID:2553-1613300400-1613325600@clubdetiro555.es
SUMMARY:Carabina aire juvenil
DESCRIPTION:
URL:https://clubdetiro555.es/calendario/carabina-aire-juvenil-3
LOCATION:Campo de Tiro Cantoblanco\, Federación Madrileña de Tiro Olímpico\, Madrid\, Madrid\, 28015\, España
CATEGORIES:Aire 10m
ORGANIZER;CN="F.M.T.O.":MAILTO:informacion@fmto.net
END:VEVENT
BEGIN:VEVENT
DTSTART;TZID=Europe/Paris:20210220T110000
DTEND;TZID=Europe/Paris:20210220T180000
DTSTAMP:20260420T161411
CREATED:20210208T184850Z
LAST-MODIFIED:20210208T184850Z
UID:2561-1613818800-1613844000@clubdetiro555.es
SUMMARY:RRTT - Pistola
DESCRIPTION:
URL:https://clubdetiro555.es/calendario/rrtt-pistola
LOCATION:Campo de Tiro Cantoblanco\, Federación Madrileña de Tiro Olímpico\, Madrid\, Madrid\, 28015\, España
CATEGORIES:IPSC
ORGANIZER;CN="F.M.T.O.":MAILTO:informacion@fmto.net
END:VEVENT
BEGIN:VEVENT
DTSTART;TZID=Europe/Paris:20210220T170000
DTEND;TZID=Europe/Paris:20210220T180000
DTSTAMP:20260420T161411
CREATED:20210208T185802Z
LAST-MODIFIED:20210208T185802Z
UID:2563-1613840400-1613844000@clubdetiro555.es
SUMMARY:Arma Corta Fuego Central - Complementaria
DESCRIPTION:
URL:https://clubdetiro555.es/calendario/arma-corta-fuego-central-complementaria-4
LOCATION:Campo de Tiro Cantoblanco\, Federación Madrileña de Tiro Olímpico\, Madrid\, Madrid\, 28015\, España
CATEGORIES:Complementaria
ORGANIZER;CN="F.M.T.O.":MAILTO:informacion@fmto.net
END:VEVENT
BEGIN:VEVENT
DTSTART;TZID=Europe/Paris:20210221T110000
DTEND;TZID=Europe/Paris:20210221T180000
DTSTAMP:20260420T161411
CREATED:20210208T184056Z
LAST-MODIFIED:20210208T184056Z
UID:2557-1613905200-1613930400@clubdetiro555.es
SUMMARY:Carabina BR50
DESCRIPTION:
URL:https://clubdetiro555.es/calendario/carabina-br50-3
LOCATION:Campo de Tiro Cantoblanco\, Federación Madrileña de Tiro Olímpico\, Madrid\, Madrid\, 28015\, España
CATEGORIES:BR-FCLAS
ORGANIZER;CN="F.M.T.O.":MAILTO:informacion@fmto.net
END:VEVENT
BEGIN:VEVENT
DTSTART;TZID=Europe/Paris:20210221T110000
DTEND;TZID=Europe/Paris:20210221T180000
DTSTAMP:20260420T161411
CREATED:20210208T184312Z
LAST-MODIFIED:20210208T184312Z
UID:2559-1613905200-1613930400@clubdetiro555.es
SUMMARY:Pistola Standard - Aire
DESCRIPTION:
URL:https://clubdetiro555.es/calendario/pistola-standard-aire
LOCATION:Campo de Tiro Cantoblanco\, Federación Madrileña de Tiro Olímpico\, Madrid\, Madrid\, 28015\, España
CATEGORIES:Pistola prec.
ORGANIZER;CN="F.M.T.O.":MAILTO:informacion@fmto.net
END:VEVENT
BEGIN:VEVENT
DTSTART;TZID=Europe/Paris:20210227T110000
DTEND;TZID=Europe/Paris:20210227T180000
DTSTAMP:20260420T161411
CREATED:20210208T190112Z
LAST-MODIFIED:20210208T190112Z
UID:2565-1614423600-1614448800@clubdetiro555.es
SUMMARY:Arma Corta Grueso Calibre - Complementaria
DESCRIPTION:
URL:https://clubdetiro555.es/calendario/arma-corta-grueso-calibre-complementaria-6
LOCATION:Campo de Tiro Cantoblanco\, Federación Madrileña de Tiro Olímpico\, Madrid\, Madrid\, 28015\, España
CATEGORIES:Complementaria
ORGANIZER;CN="F.M.T.O.":MAILTO:informacion@fmto.net
END:VEVENT
BEGIN:VEVENT
DTSTART;TZID=Europe/Paris:20210228T110000
DTEND;TZID=Europe/Paris:20210228T180000
DTSTAMP:20260420T161411
CREATED:20210208T190230Z
LAST-MODIFIED:20210208T190230Z
UID:2567-1614510000-1614535200@clubdetiro555.es
SUMMARY:Pistola Tiro Rápido 25 m
DESCRIPTION:
URL:https://clubdetiro555.es/calendario/pistola-tiro-rapido-25-m
LOCATION:Campo de Tiro Cantoblanco\, Federación Madrileña de Tiro Olímpico\, Madrid\, Madrid\, 28015\, España
CATEGORIES:Pistola prec.
ORGANIZER;CN="F.M.T.O.":MAILTO:informacion@fmto.net
END:VEVENT
END:VCALENDAR