BEGIN:VCALENDAR
VERSION:2.0
PRODID:-//Club de tiro 555 - ECPv6.10.1.1//NONSGML v1.0//EN
CALSCALE:GREGORIAN
METHOD:PUBLISH
X-WR-CALNAME:Club de tiro 555
X-ORIGINAL-URL:https://clubdetiro555.es
X-WR-CALDESC:Eventos para Club de tiro 555
REFRESH-INTERVAL;VALUE=DURATION:PT1H
X-Robots-Tag:noindex
X-PUBLISHED-TTL:PT1H
BEGIN:VTIMEZONE
TZID:Europe/Paris
BEGIN:DAYLIGHT
TZOFFSETFROM:+0100
TZOFFSETTO:+0200
TZNAME:CEST
DTSTART:20230326T010000
END:DAYLIGHT
BEGIN:STANDARD
TZOFFSETFROM:+0200
TZOFFSETTO:+0100
TZNAME:CET
DTSTART:20231029T010000
END:STANDARD
END:VTIMEZONE
BEGIN:VEVENT
DTSTART;TZID=Europe/Paris:20230916T163000
DTEND;TZID=Europe/Paris:20230916T180000
DTSTAMP:20260419T183844
CREATED:20230907T152743Z
LAST-MODIFIED:20230907T152743Z
UID:5065-1694881800-1694887200@clubdetiro555.es
SUMMARY:Arma Corta Fuego Central y GC (Tirada complementaria)
DESCRIPTION:Arma Corta Fuego Central y GC (Tirada complementaria)
URL:https://clubdetiro555.es/calendario/arma-corta-fuego-central-y-gc-tirada-complementaria
LOCATION:Campo de Tiro Cantoblanco\, Federación Madrileña de Tiro Olímpico\, Madrid\, Madrid\, 28015\, España
ORGANIZER;CN="F.M.T.O.":MAILTO:informacion@fmto.net
END:VEVENT
END:VCALENDAR