BEGIN:VCALENDAR
VERSION:2.0
PRODID:-//Club de tiro 555 - ECPv6.10.1.1//NONSGML v1.0//EN
CALSCALE:GREGORIAN
METHOD:PUBLISH
X-ORIGINAL-URL:https://clubdetiro555.es
X-WR-CALDESC:Eventos para Club de tiro 555
REFRESH-INTERVAL;VALUE=DURATION:PT1H
X-Robots-Tag:noindex
X-PUBLISHED-TTL:PT1H
BEGIN:VTIMEZONE
TZID:Europe/Paris
BEGIN:DAYLIGHT
TZOFFSETFROM:+0100
TZOFFSETTO:+0200
TZNAME:CEST
DTSTART:20230326T010000
END:DAYLIGHT
BEGIN:STANDARD
TZOFFSETFROM:+0200
TZOFFSETTO:+0100
TZNAME:CET
DTSTART:20231029T010000
END:STANDARD
END:VTIMEZONE
BEGIN:VEVENT
DTSTART;TZID=Europe/Paris:20230909T100000
DTEND;TZID=Europe/Paris:20230909T150000
DTSTAMP:20260419T153650
CREATED:20230907T151237Z
LAST-MODIFIED:20230907T151237Z
UID:5051-1694253600-1694271600@clubdetiro555.es
SUMMARY:F-Class 100 metros (Tirada Preparatoria)
DESCRIPTION:F-Class 100 metros (Tirada Preparatoria)
URL:https://clubdetiro555.es/calendario/f-class-100-metros-tirada-preparatoria
LOCATION:Campo de Tiro Cantoblanco\, Federación Madrileña de Tiro Olímpico\, Madrid\, Madrid\, 28015\, España
ORGANIZER;CN="F.M.T.O.":MAILTO:informacion@fmto.net
END:VEVENT
BEGIN:VEVENT
DTSTART;TZID=Europe/Paris:20230909T163000
DTEND;TZID=Europe/Paris:20230909T180000
DTSTAMP:20260419T153650
CREATED:20230907T151412Z
LAST-MODIFIED:20230907T151412Z
UID:5053-1694277000-1694282400@clubdetiro555.es
SUMMARY:Arma Corta F. Central y GC (Tirada Complementaria)
DESCRIPTION:Arma Corta F. Central y GC (Tirada Complementaria)
URL:https://clubdetiro555.es/calendario/arma-corta-f-central-y-gc-tirada-complementaria
LOCATION:Campo de Tiro Cantoblanco\, Federación Madrileña de Tiro Olímpico\, Madrid\, Madrid\, 28015\, España
ORGANIZER;CN="F.M.T.O.":MAILTO:informacion@fmto.net
END:VEVENT
END:VCALENDAR