BEGIN:VCALENDAR
VERSION:2.0
PRODID:-//Club de tiro 555 - ECPv6.10.1.1//NONSGML v1.0//EN
CALSCALE:GREGORIAN
METHOD:PUBLISH
X-WR-CALNAME:Club de tiro 555
X-ORIGINAL-URL:https://clubdetiro555.es
X-WR-CALDESC:Eventos para Club de tiro 555
REFRESH-INTERVAL;VALUE=DURATION:PT1H
X-Robots-Tag:noindex
X-PUBLISHED-TTL:PT1H
BEGIN:VTIMEZONE
TZID:Europe/Paris
BEGIN:DAYLIGHT
TZOFFSETFROM:+0100
TZOFFSETTO:+0200
TZNAME:CEST
DTSTART:20200329T010000
END:DAYLIGHT
BEGIN:STANDARD
TZOFFSETFROM:+0200
TZOFFSETTO:+0100
TZNAME:CET
DTSTART:20201025T010000
END:STANDARD
END:VTIMEZONE
BEGIN:VEVENT
DTSTART;TZID=Europe/Paris:20201129T090000
DTEND;TZID=Europe/Paris:20201129T180000
DTSTAMP:20260420T161121
CREATED:20201023T165749Z
LAST-MODIFIED:20201023T165749Z
UID:2353-1606640400-1606672800@clubdetiro555.es
SUMMARY:Pistola Velocidad Aire - Regional
DESCRIPTION:
URL:https://clubdetiro555.es/calendario/pistola-velocidad-aire-regional
LOCATION:Campo de Tiro Cantoblanco\, Federación Madrileña de Tiro Olímpico\, Madrid\, Madrid\, 28015\, España
CATEGORIES:Aire 10m
ORGANIZER;CN="F.M.T.O.":MAILTO:informacion@fmto.net
END:VEVENT
BEGIN:VEVENT
DTSTART;TZID=Europe/Paris:20201129T110000
DTEND;TZID=Europe/Paris:20201129T180000
DTSTAMP:20260420T161121
CREATED:20201023T165611Z
LAST-MODIFIED:20201023T165611Z
UID:2351-1606647600-1606672800@clubdetiro555.es
SUMMARY:Carabina Tendido
DESCRIPTION:
URL:https://clubdetiro555.es/calendario/carabina-tendido
LOCATION:Campo de Tiro Cantoblanco\, Federación Madrileña de Tiro Olímpico\, Madrid\, Madrid\, 28015\, España
CATEGORIES:Carabina prec.
ORGANIZER;CN="F.M.T.O.":MAILTO:informacion@fmto.net
END:VEVENT
END:VCALENDAR